BEGIN:VCALENDAR
VERSION:2.0
PRODID:icalendar-ruby
CALSCALE:GREGORIAN
METHOD:PUBLISH
BEGIN:VEVENT
DTSTAMP:20260421T182329Z
UID:23-568002@rockbible.tithelysetup5.com
DTSTART:20261014T020000Z
DTEND:20261014T034500Z
CLASS:PUBLIC
CREATED:20260421T102454
DESCRIPTION:
LAST-MODIFIED:20260421T102454
LOCATION:RBC Campus
SUMMARY:High School Ministry - Ground Zero
URL;VALUE=URI:https://rockbiblechurch.com/events/high-school-ministry-groun
 d-zero/2026-10-13
ATTACH;FILENAME=058cd803-4c27-41ad-8130-32989028710c%402x.png;FMTTYPE=image
 /png:https://dq5pwpg1q8ru0.cloudfront.net/2025/05/06/18/54/11/10380608-2c0
 b-499b-a880-453c438a53c3/058cd803-4c27-41ad-8130-32989028710c%25402x.png
END:VEVENT
END:VCALENDAR
