BEGIN:VCALENDAR
VERSION:2.0
PRODID:icalendar-ruby
CALSCALE:GREGORIAN
METHOD:PUBLISH
BEGIN:VEVENT
DTSTAMP:20260421T202016Z
UID:22-568435@rockbible.tithelysetup5.com
DTSTART:20261028T011500Z
DTEND:20261028T025000Z
CLASS:PUBLIC
CREATED:20260421T130053
DESCRIPTION:
LAST-MODIFIED:20260421T130053
LOCATION:RBC Campus
SUMMARY:Middle School Ministry - Impact
URL;VALUE=URI:https://rockbiblechurch.com/events/middle-school-ministry-imp
 act/2026-10-27
ATTACH;FILENAME=058cd803-4c27-41ad-8130-32989028710c%402x.png;FMTTYPE=image
 /png:https://dq5pwpg1q8ru0.cloudfront.net/2025/05/06/18/52/44/6502530b-be8
 3-425c-969f-10b5c57bf65b/058cd803-4c27-41ad-8130-32989028710c%25402x.png
END:VEVENT
END:VCALENDAR
